BEGIN:VCALENDAR
VERSION:2.0
PRODID:-//Hispanic Center Lehigh Valley - ECPv6.13.2.1//NONSGML v1.0//EN
CALSCALE:GREGORIAN
METHOD:PUBLISH
X-WR-CALNAME:Hispanic Center Lehigh Valley
X-ORIGINAL-URL:https://www.hclv.org
X-WR-CALDESC:Events for Hispanic Center Lehigh Valley
REFRESH-INTERVAL;VALUE=DURATION:PT1H
X-Robots-Tag:noindex
X-PUBLISHED-TTL:PT1H
BEGIN:VTIMEZONE
TZID:UTC
BEGIN:STANDARD
TZOFFSETFROM:+0000
TZOFFSETTO:+0000
TZNAME:UTC
DTSTART:20210101T000000
END:STANDARD
END:VTIMEZONE
BEGIN:VEVENT
DTSTART;TZID=UTC:20250530T173000
DTEND;TZID=UTC:20250530T200000
DTSTAMP:20260422T184705
CREATED:20210726T140620Z
LAST-MODIFIED:20250627T163916Z
UID:3125-1748626200-1748635200@www.hclv.org
SUMMARY:Fiesta Colombiana
DESCRIPTION:Fiesta: Colombia presented by Hispanic Center Lehigh Valley\nCome celebrate the successes of HCLV and the traditions of Colombia!
URL:https://www.hclv.org/event/fiesta-colombiana/
LOCATION:Default Website Template
CATEGORIES:Recent Events V2
ATTACH;FMTTYPE=image/png:https://www.hclv.org/wp-content/uploads/2025/05/Screen-Shot-2025-05-02-at-7.56.17-AM.png
END:VEVENT
BEGIN:VEVENT
DTSTART;TZID=UTC:20220420T100000
DTEND;TZID=UTC:20220420T160000
DTSTAMP:20260422T184705
CREATED:20210726T140513Z
LAST-MODIFIED:20210726T140513Z
UID:728-1650448800-1650470400@www.hclv.org
SUMMARY:One-Day Online Fundraiser
DESCRIPTION:Event Description\nNor again is there anyone who loves or pursues or desires to pain of itself\, because it is pain\, but because occasionally circumstances occur in which toil and paincan procure him some great pleasure. To take a trivial example\, which of us ever undertakes laborious except to obtain some advantage from it? But who has any right to find fault with a man who chooses. \nMust explain to you how all this mistaken idea of denouncing pleasure and praising pain was born and I will give you a completed great the great explorer of the truth\, the master-builder of human happiness except to obtain some advantage. \n\n\nWhat will You Learn?\n\nHow to use social media to reach local\, national and international audiences\nHow to set up and market events\, using online tools\, so you no longer depend on venues or festivals to organise on your behalf\nHow to create and run online shows\, adapt your performance techniques and manage your audience throughout a show\nTakeaway training material\nMentoring and troubleshooting and post-training support from Jason\nHow to use social media to reach local\, national and international audiences\nHow to set up and market events\, using online tools\nAdapt your performance techniques and manage your audience throughout a show\nTakeaway training material
URL:https://www.hclv.org/event/one-day-online-fundraiser/
LOCATION:California
CATEGORIES:Recent Events V2
ATTACH;FMTTYPE=image/jpeg:https://www.hclv.org/wp-content/uploads/2021/07/news-11.jpg
END:VEVENT
BEGIN:VEVENT
DTSTART;TZID=UTC:20220420T090000
DTEND;TZID=UTC:20220420T170000
DTSTAMP:20260422T184705
CREATED:20210726T142751Z
LAST-MODIFIED:20210726T142751Z
UID:752-1650445200-1650474000@www.hclv.org
SUMMARY:One-Day Online Fundraiser
DESCRIPTION:Event Description\nNor again is there anyone who loves or pursues or desires to pain of itself\, because it is pain\, but because occasionally circumstances occur in which toil and paincan procure him some great pleasure. To take a trivial example\, which of us ever undertakes laborious except to obtain some advantage from it? But who has any right to find fault with a man who chooses. \nMust explain to you how all this mistaken idea of denouncing pleasure and praising pain was born and I will give you a completed great the great explorer of the truth\, the master-builder of human happiness except to obtain some advantage. \n\n\nWhat will You Learn?\n\nHow to use social media to reach local\, national and international audiences\nHow to set up and market events\, using online tools\, so you no longer depend on venues or festivals to organise on your behalf\nHow to create and run online shows\, adapt your performance techniques and manage your audience throughout a show\nTakeaway training material\nMentoring and troubleshooting and post-training support from Jason\nHow to use social media to reach local\, national and international audiences\nHow to set up and market events\, using online tools\nAdapt your performance techniques and manage your audience throughout a show\nTakeaway training material
URL:https://www.hclv.org/event/one-day-online-fundraiser-2/
LOCATION:California
CATEGORIES:Events List View
ATTACH;FMTTYPE=image/jpeg:https://www.hclv.org/wp-content/uploads/2021/07/news-10.jpg
END:VEVENT
BEGIN:VEVENT
DTSTART;TZID=UTC:20220415T090000
DTEND;TZID=UTC:20220415T163000
DTSTAMP:20260422T184705
CREATED:20210712T161220Z
LAST-MODIFIED:20210712T161220Z
UID:182-1650013200-1650040200@www.hclv.org
SUMMARY:USA Walks\, Treks and Hikes
DESCRIPTION:Event Description\nNor again is there anyone who loves or pursues or desires to pain of itself\, because it is pain\, but because occasionally circumstances occur in which toil and paincan procure him some great pleasure. To take a trivial example\, which of us ever undertakes laborious except to obtain some advantage from it? But who has any right to find fault with a man who chooses. \nMust explain to you how all this mistaken idea of denouncing pleasure and praising pain was born and I will give you a completed great the great explorer of the truth\, the master-builder of human happiness except to obtain some advantage. \n\n\nWhat will You Learn?\n\nHow to use social media to reach local\, national and international audiences\nHow to set up and market events\, using online tools\, so you no longer depend on venues or festivals to organise on your behalf\nHow to create and run online shows\, adapt your performance techniques and manage your audience throughout a show\nTakeaway training material\nMentoring and troubleshooting and post-training support from Jason\nHow to use social media to reach local\, national and international audiences\nHow to set up and market events\, using online tools\nAdapt your performance techniques and manage your audience throughout a show\nTakeaway training material
URL:https://www.hclv.org/event/usa-walks-treks-and-hikes/
LOCATION:California
CATEGORIES:Our Recent Events
ATTACH;FMTTYPE=image/jpeg:https://www.hclv.org/wp-content/uploads/2021/07/news-12.jpg
END:VEVENT
BEGIN:VEVENT
DTSTART;TZID=UTC:20220406T100000
DTEND;TZID=UTC:20220406T150000
DTSTAMP:20260422T184705
CREATED:20210712T161046Z
LAST-MODIFIED:20210712T161046Z
UID:3119-1649239200-1649257200@www.hclv.org
SUMMARY:Royal Parks Half Marathon
DESCRIPTION:Event Description\nNor again is there anyone who loves or pursues or desires to pain of itself\, because it is pain\, but because occasionally circumstances occur in which toil and paincan procure him some great pleasure. To take a trivial example\, which of us ever undertakes laborious except to obtain some advantage from it? But who has any right to find fault with a man who chooses. \nMust explain to you how all this mistaken idea of denouncing pleasure and praising pain was born and I will give you a completed great the great explorer of the truth\, the master-builder of human happiness except to obtain some advantage. \n\n\nWhat will You Learn?\n\nHow to use social media to reach local\, national and international audiences\nHow to set up and market events\, using online tools\, so you no longer depend on venues or festivals to organise on your behalf\nHow to create and run online shows\, adapt your performance techniques and manage your audience throughout a show\nTakeaway training material\nMentoring and troubleshooting and post-training support from Jason\nHow to use social media to reach local\, national and international audiences\nHow to set up and market events\, using online tools\nAdapt your performance techniques and manage your audience throughout a show\nTakeaway training material
URL:https://www.hclv.org/event/royal-parks-half-marathon/
LOCATION:Default Website Template
CATEGORIES:Our Recent Events
ATTACH;FMTTYPE=image/jpeg:https://www.hclv.org/wp-content/uploads/2021/07/news-11.jpg
END:VEVENT
BEGIN:VEVENT
DTSTART;TZID=UTC:20220316T100000
DTEND;TZID=UTC:20220316T180000
DTSTAMP:20260422T184705
CREATED:20210726T140714Z
LAST-MODIFIED:20210726T140714Z
UID:3126-1647424800-1647453600@www.hclv.org
SUMMARY:Skydive For Our Volunteers
DESCRIPTION:Event Description\nNor again is there anyone who loves or pursues or desires to pain of itself\, because it is pain\, but because occasionally circumstances occur in which toil and paincan procure him some great pleasure. To take a trivial example\, which of us ever undertakes laborious except to obtain some advantage from it? But who has any right to find fault with a man who chooses. \nMust explain to you how all this mistaken idea of denouncing pleasure and praising pain was born and I will give you a completed great the great explorer of the truth\, the master-builder of human happiness except to obtain some advantage. \n\n\nWhat will You Learn?\n\nHow to use social media to reach local\, national and international audiences\nHow to set up and market events\, using online tools\, so you no longer depend on venues or festivals to organise on your behalf\nHow to create and run online shows\, adapt your performance techniques and manage your audience throughout a show\nTakeaway training material\nMentoring and troubleshooting and post-training support from Jason\nHow to use social media to reach local\, national and international audiences\nHow to set up and market events\, using online tools\nAdapt your performance techniques and manage your audience throughout a show\nTakeaway training material
URL:https://www.hclv.org/event/skydive-for-our-volunteers/
LOCATION:California
CATEGORIES:Recent Events V2
ATTACH;FMTTYPE=image/jpeg:https://www.hclv.org/wp-content/uploads/2021/07/news-13.jpg
END:VEVENT
BEGIN:VEVENT
DTSTART;TZID=UTC:20220316T100000
DTEND;TZID=UTC:20220316T160000
DTSTAMP:20260422T184705
CREATED:20210712T161136Z
LAST-MODIFIED:20210712T161136Z
UID:3120-1647424800-1647446400@www.hclv.org
SUMMARY:Pure Hearts Virtual Brain Game
DESCRIPTION:Event Description\nNor again is there anyone who loves or pursues or desires to pain of itself\, because it is pain\, but because occasionally circumstances occur in which toil and paincan procure him some great pleasure. To take a trivial example\, which of us ever undertakes laborious except to obtain some advantage from it? But who has any right to find fault with a man who chooses. \nMust explain to you how all this mistaken idea of denouncing pleasure and praising pain was born and I will give you a completed great the great explorer of the truth\, the master-builder of human happiness except to obtain some advantage. \n\n\nWhat will You Learn?\n\nHow to use social media to reach local\, national and international audiences\nHow to set up and market events\, using online tools\, so you no longer depend on venues or festivals to organise on your behalf\nHow to create and run online shows\, adapt your performance techniques and manage your audience throughout a show\nTakeaway training material\nMentoring and troubleshooting and post-training support from Jason\nHow to use social media to reach local\, national and international audiences\nHow to set up and market events\, using online tools\nAdapt your performance techniques and manage your audience throughout a show\nTakeaway training material
URL:https://www.hclv.org/event/pure-hearts-virtual-brain-game/
LOCATION:Default Website Template
CATEGORIES:Our Recent Events
ATTACH;FMTTYPE=image/jpeg:https://www.hclv.org/wp-content/uploads/2021/07/news-9.jpg
END:VEVENT
BEGIN:VEVENT
DTSTART;TZID=UTC:20220316T080000
DTEND;TZID=UTC:20220316T170000
DTSTAMP:20260422T184705
CREATED:20210714T154515Z
LAST-MODIFIED:20210714T154515Z
UID:3124-1647417600-1647450000@www.hclv.org
SUMMARY:Royal Parks Half Marathon
DESCRIPTION:Event Description\nNor again is there anyone who loves or pursues or desires to pain of itself\, because it is pain\, but because occasionally circumstances occur in which toil and paincan procure him some great pleasure. To take a trivial example\, which of us ever undertakes laborious except to obtain some advantage from it? But who has any right to find fault with a man who chooses. \nMust explain to you how all this mistaken idea of denouncing pleasure and praising pain was born and I will give you a completed great the great explorer of the truth\, the master-builder of human happiness except to obtain some advantage. \n\n\nWhat will You Learn?\n\nHow to use social media to reach local\, national and international audiences\nHow to set up and market events\, using online tools\, so you no longer depend on venues or festivals to organise on your behalf\nHow to create and run online shows\, adapt your performance techniques and manage your audience throughout a show\nTakeaway training material\nMentoring and troubleshooting and post-training support from Jason\nHow to use social media to reach local\, national and international audiences\nHow to set up and market events\, using online tools\nAdapt your performance techniques and manage your audience throughout a show\nTakeaway training material
URL:https://www.hclv.org/event/royal-parks-half-marathon-2/
LOCATION:California
CATEGORIES:Recent Events V2
ATTACH;FMTTYPE=image/jpeg:https://www.hclv.org/wp-content/uploads/2021/07/l1.jpg
END:VEVENT
BEGIN:VEVENT
DTSTART;TZID=UTC:20220315T100000
DTEND;TZID=UTC:20220315T180000
DTSTAMP:20260422T184705
CREATED:20210726T142841Z
LAST-MODIFIED:20210726T142841Z
UID:754-1647338400-1647367200@www.hclv.org
SUMMARY:Personal Fitness Challenge
DESCRIPTION:Event Description\nNor again is there anyone who loves or pursues or desires to pain of itself\, because it is pain\, but because occasionally circumstances occur in which toil and paincan procure him some great pleasure. To take a trivial example\, which of us ever undertakes laborious except to obtain some advantage from it? But who has any right to find fault with a man who chooses. \nMust explain to you how all this mistaken idea of denouncing pleasure and praising pain was born and I will give you a completed great the great explorer of the truth\, the master-builder of human happiness except to obtain some advantage. \n\n\nWhat will You Learn?\n\nHow to use social media to reach local\, national and international audiences\nHow to set up and market events\, using online tools\, so you no longer depend on venues or festivals to organise on your behalf\nHow to create and run online shows\, adapt your performance techniques and manage your audience throughout a show\nTakeaway training material\nMentoring and troubleshooting and post-training support from Jason\nHow to use social media to reach local\, national and international audiences\nHow to set up and market events\, using online tools\nAdapt your performance techniques and manage your audience throughout a show\nTakeaway training material
URL:https://www.hclv.org/event/personal-fitness-challenge-2/
LOCATION:Default Website Template
CATEGORIES:Events List View
ATTACH;FMTTYPE=image/jpeg:https://www.hclv.org/wp-content/uploads/2021/07/l1.jpg
END:VEVENT
BEGIN:VEVENT
DTSTART;TZID=UTC:20220315T090000
DTEND;TZID=UTC:20220315T160000
DTSTAMP:20260422T184705
CREATED:20210714T154635Z
LAST-MODIFIED:20210714T154635Z
UID:346-1647334800-1647360000@www.hclv.org
SUMMARY:Pure Hearts Present Virtual Brain Game for Youth
DESCRIPTION:Event Description\nNor again is there anyone who loves or pursues or desires to pain of itself\, because it is pain\, but because occasionally circumstances occur in which toil and paincan procure him some great pleasure. To take a trivial example\, which of us ever undertakes laborious except to obtain some advantage from it? But who has any right to find fault with a man who chooses. \nMust explain to you how all this mistaken idea of denouncing pleasure and praising pain was born and I will give you a completed great the great explorer of the truth\, the master-builder of human happiness except to obtain some advantage. \n\n\nWhat will You Learn?\n\nHow to use social media to reach local\, national and international audiences\nHow to set up and market events\, using online tools\, so you no longer depend on venues or festivals to organise on your behalf\nHow to create and run online shows\, adapt your performance techniques and manage your audience throughout a show\nTakeaway training material\nMentoring and troubleshooting and post-training support from Jason\nHow to use social media to reach local\, national and international audiences\nHow to set up and market events\, using online tools\nAdapt your performance techniques and manage your audience throughout a show\nTakeaway training material
URL:https://www.hclv.org/event/pure-hearts-present-virtual-brain-game-for-youth/
LOCATION:Default Website Template
CATEGORIES:Recent Events V2
ATTACH;FMTTYPE=image/jpeg:https://www.hclv.org/wp-content/uploads/2021/07/news-12.jpg
END:VEVENT
BEGIN:VEVENT
DTSTART;TZID=UTC:20220210T110000
DTEND;TZID=UTC:20220210T160000
DTSTAMP:20260422T184705
CREATED:20210726T142701Z
LAST-MODIFIED:20210726T142701Z
UID:749-1644490800-1644508800@www.hclv.org
SUMMARY:USA Walks\, Treks and Hikes
DESCRIPTION:Event Description\nNor again is there anyone who loves or pursues or desires to pain of itself\, because it is pain\, but because occasionally circumstances occur in which toil and paincan procure him some great pleasure. To take a trivial example\, which of us ever undertakes laborious except to obtain some advantage from it? But who has any right to find fault with a man who chooses. \nMust explain to you how all this mistaken idea of denouncing pleasure and praising pain was born and I will give you a completed great the great explorer of the truth\, the master-builder of human happiness except to obtain some advantage. \n\n\nWhat will You Learn?\n\nHow to use social media to reach local\, national and international audiences\nHow to set up and market events\, using online tools\, so you no longer depend on venues or festivals to organise on your behalf\nHow to create and run online shows\, adapt your performance techniques and manage your audience throughout a show\nTakeaway training material\nMentoring and troubleshooting and post-training support from Jason\nHow to use social media to reach local\, national and international audiences\nHow to set up and market events\, using online tools\nAdapt your performance techniques and manage your audience throughout a show\nTakeaway training material
URL:https://www.hclv.org/event/usa-walks-treks-and-hikes-3/
LOCATION:Default Website Template
CATEGORIES:Events List View
ATTACH;FMTTYPE=image/jpeg:https://www.hclv.org/wp-content/uploads/2021/07/news-13.jpg
END:VEVENT
BEGIN:VEVENT
DTSTART;TZID=UTC:20220115T100000
DTEND;TZID=UTC:20220115T160000
DTSTAMP:20260422T184705
CREATED:20210714T154811Z
LAST-MODIFIED:20210714T154811Z
UID:348-1642240800-1642262400@www.hclv.org
SUMMARY:USA Walks\, Treks and Hikes
DESCRIPTION:Event Description\nNor again is there anyone who loves or pursues or desires to pain of itself\, because it is pain\, but because occasionally circumstances occur in which toil and paincan procure him some great pleasure. To take a trivial example\, which of us ever undertakes laborious except to obtain some advantage from it? But who has any right to find fault with a man who chooses. \nMust explain to you how all this mistaken idea of denouncing pleasure and praising pain was born and I will give you a completed great the great explorer of the truth\, the master-builder of human happiness except to obtain some advantage. \n\n\nWhat will You Learn?\n\nHow to use social media to reach local\, national and international audiences\nHow to set up and market events\, using online tools\, so you no longer depend on venues or festivals to organise on your behalf\nHow to create and run online shows\, adapt your performance techniques and manage your audience throughout a show\nTakeaway training material\nMentoring and troubleshooting and post-training support from Jason\nHow to use social media to reach local\, national and international audiences\nHow to set up and market events\, using online tools\nAdapt your performance techniques and manage your audience throughout a show\nTakeaway training material
URL:https://www.hclv.org/event/usa-walks-treks-and-hikes-2/
LOCATION:Default Website Template
CATEGORIES:Recent Events V2
ATTACH;FMTTYPE=image/jpeg:https://www.hclv.org/wp-content/uploads/2021/07/news-9.jpg
END:VEVENT
BEGIN:VEVENT
DTSTART;TZID=UTC:20220111T090000
DTEND;TZID=UTC:20220111T160000
DTSTAMP:20260422T184705
CREATED:20210726T142437Z
LAST-MODIFIED:20210726T142437Z
UID:3127-1641891600-1641916800@www.hclv.org
SUMMARY:Royal Parks Half Marathon
DESCRIPTION:Event Description\nNor again is there anyone who loves or pursues or desires to pain of itself\, because it is pain\, but because occasionally circumstances occur in which toil and paincan procure him some great pleasure. To take a trivial example\, which of us ever undertakes laborious except to obtain some advantage from it? But who has any right to find fault with a man who chooses. \nMust explain to you how all this mistaken idea of denouncing pleasure and praising pain was born and I will give you a completed great the great explorer of the truth\, the master-builder of human happiness except to obtain some advantage. \n\n\nWhat will You Learn?\n\nHow to use social media to reach local\, national and international audiences\nHow to set up and market events\, using online tools\, so you no longer depend on venues or festivals to organise on your behalf\nHow to create and run online shows\, adapt your performance techniques and manage your audience throughout a show\nTakeaway training material\nMentoring and troubleshooting and post-training support from Jason\nHow to use social media to reach local\, national and international audiences\nHow to set up and market events\, using online tools\nAdapt your performance techniques and manage your audience throughout a show\nTakeaway training material
URL:https://www.hclv.org/event/royal-parks-half-marathon-3/
LOCATION:Default Website Template
CATEGORIES:Events List View
ATTACH;FMTTYPE=image/jpeg:https://www.hclv.org/wp-content/uploads/2021/07/news-11.jpg
END:VEVENT
BEGIN:VEVENT
DTSTART;TZID=UTC:20211217T100000
DTEND;TZID=UTC:20211217T170000
DTSTAMP:20260422T184705
CREATED:20210726T142542Z
LAST-MODIFIED:20210726T142542Z
UID:747-1639735200-1639760400@www.hclv.org
SUMMARY:Pure Hearts Virtual Brain Game
DESCRIPTION:Event Description\nNor again is there anyone who loves or pursues or desires to pain of itself\, because it is pain\, but because occasionally circumstances occur in which toil and paincan procure him some great pleasure. To take a trivial example\, which of us ever undertakes laborious except to obtain some advantage from it? But who has any right to find fault with a man who chooses. \nMust explain to you how all this mistaken idea of denouncing pleasure and praising pain was born and I will give you a completed great the great explorer of the truth\, the master-builder of human happiness except to obtain some advantage. \n\n\nWhat will You Learn?\n\nHow to use social media to reach local\, national and international audiences\nHow to set up and market events\, using online tools\, so you no longer depend on venues or festivals to organise on your behalf\nHow to create and run online shows\, adapt your performance techniques and manage your audience throughout a show\nTakeaway training material\nMentoring and troubleshooting and post-training support from Jason\nHow to use social media to reach local\, national and international audiences\nHow to set up and market events\, using online tools\nAdapt your performance techniques and manage your audience throughout a show\nTakeaway training material
URL:https://www.hclv.org/event/pure-hearts-virtual-brain-game-2/
LOCATION:California
CATEGORIES:Events List View
ATTACH;FMTTYPE=image/jpeg:https://www.hclv.org/wp-content/uploads/2021/07/news-12.jpg
END:VEVENT
END:VCALENDAR