BEGIN:VCALENDAR
VERSION:2.0
PRODID:-//Hispanic Center Lehigh Valley - ECPv6.13.2.1//NONSGML v1.0//EN
CALSCALE:GREGORIAN
METHOD:PUBLISH
X-ORIGINAL-URL:https://www.hclv.org
X-WR-CALDESC:Events for Hispanic Center Lehigh Valley
REFRESH-INTERVAL;VALUE=DURATION:PT1H
X-Robots-Tag:noindex
X-PUBLISHED-TTL:PT1H
BEGIN:VTIMEZONE
TZID:America/New_York
BEGIN:DAYLIGHT
TZOFFSETFROM:-0500
TZOFFSETTO:-0400
TZNAME:EDT
DTSTART:20260308T070000
END:DAYLIGHT
BEGIN:STANDARD
TZOFFSETFROM:-0400
TZOFFSETTO:-0500
TZNAME:EST
DTSTART:20261101T060000
END:STANDARD
END:VTIMEZONE
BEGIN:VEVENT
DTSTART;TZID=America/New_York:20260529T173000
DTEND;TZID=America/New_York:20260529T213000
DTSTAMP:20260420T031517
CREATED:20251218T144528Z
LAST-MODIFIED:20251218T144528Z
UID:4063-1780075800-1780090200@www.hclv.org
SUMMARY:Fiesta Puerto Rico
DESCRIPTION:Celebrate Puerto Rican heritage with Hispanic Center Lehigh Valley\n\nThis year’s FIESTA will bring the SABOR of Puerto Rico to celebrate the supporters of Hispanic Center Lehigh Valley and the successes of our agency and of course Latin music\, dinner\, silent auction\, awards and much more! \nAs HCLV’s annual fundraising gala\, all proceeds from FIESTA will provide us the opportunity to continue operating signature programs and work towards our mission to improve the quality of lives in our community. \n\nLocation: Foundry Ballroom at Wind Creek Bethlehem
URL:https://www.hclv.org/event/fiesta-puerto-rico/
ATTACH;FMTTYPE=image/jpeg:https://www.hclv.org/wp-content/uploads/2025/12/AdobeStock_51832600-scaled.jpeg
END:VEVENT
END:VCALENDAR